BEGIN:VCALENDAR
VERSION:2.0
PRODID:-//Oskar cafe - ECPv6.15.17.1//NONSGML v1.0//EN
CALSCALE:GREGORIAN
METHOD:PUBLISH
X-WR-CALNAME:Oskar cafe
X-ORIGINAL-URL:https://www.oskarcafe.com
X-WR-CALDESC:Eventos para Oskar cafe
REFRESH-INTERVAL;VALUE=DURATION:PT1H
X-Robots-Tag:noindex
X-PUBLISHED-TTL:PT1H
BEGIN:VTIMEZONE
TZID:Europe/Madrid
BEGIN:DAYLIGHT
TZOFFSETFROM:+0100
TZOFFSETTO:+0200
TZNAME:CEST
DTSTART:20250330T010000
END:DAYLIGHT
BEGIN:STANDARD
TZOFFSETFROM:+0200
TZOFFSETTO:+0100
TZNAME:CET
DTSTART:20251026T010000
END:STANDARD
BEGIN:DAYLIGHT
TZOFFSETFROM:+0100
TZOFFSETTO:+0200
TZNAME:CEST
DTSTART:20260329T010000
END:DAYLIGHT
BEGIN:STANDARD
TZOFFSETFROM:+0200
TZOFFSETTO:+0100
TZNAME:CET
DTSTART:20261025T010000
END:STANDARD
BEGIN:DAYLIGHT
TZOFFSETFROM:+0100
TZOFFSETTO:+0200
TZNAME:CEST
DTSTART:20270328T010000
END:DAYLIGHT
BEGIN:STANDARD
TZOFFSETFROM:+0200
TZOFFSETTO:+0100
TZNAME:CET
DTSTART:20271031T010000
END:STANDARD
END:VTIMEZONE
BEGIN:VEVENT
DTSTART;TZID=Europe/Madrid:20260425T120000
DTEND;TZID=Europe/Madrid:20260425T120000
DTSTAMP:20260424T114238
CREATED:20260318T220302Z
LAST-MODIFIED:20260324T105440Z
UID:10203-1777118400-1777118400@www.oskarcafe.com
SUMMARY:WORKSHOP SEVILLANAS & BRUNCH | MARLEN
DESCRIPTION:« Todos los Eventos\n				\n				\n				\n				\n					\n		\n					SEGUNDO PASE			\n	\n				\n				\n				\n				\n					\n		\n					OSKAR WARUNG | ALVRIE MANANGKA			\n		Indonesia vuelve a Oskar\, en una segundo pase\, de la mano del chef Alvrie Manangka para seguir sorprendiendo con platos auténticos de su país natal. \n\n				\n				\n				\n				\n									– Menú con inscripción previa de 25€ por persona (sin bebida).– Duración 2 horas aproximadamente.– Todos los públicos. 								\n				\n				\n				\n					\n		\n			2 mayo\n\n	\n\n	 | \n\n\n14:00\n\n			\n				\n				\n				\n				\n									PLAZAS AGOTADAS								\n				\n				\n				\n					\n	LISTA DE ESPERA\n\n				\n				\n					\n		\n				\n			\n						\n				\n					\n	\n				\n				\n					\n		\n					\n		\n				\n							\n							\n					\n			\n						\n				\n					\n		\n									\n							\n\n				\n				\n					\n		\n				\n			\n						\n				\n									Cafetería del Niemeyer\, Av. del Zinc\, S/N\,  33490\, Avilés 								\n				\n					\n		\n				\n			\n						\n				\n									985 34 84 17 hola@oskarcafe.com 								\n				\n				\n				\n									De miércoles a domingo 10:00 am – 20:00 pm 								\n				\n					\n		\n				\n			\n						\n				\n									Síguenos 								\n				\n				\n				\n									Instagram 								\n				\n					\n		\n					\n		\n				\n							\n							\n					\n			\n							\n		\n				\n			\n						\n				\n							\n							\n											\n\n											Aviso legal\n											\n									\n								\n											\n\n											Política de privacidad\n											\n									\n								\n											\n\n											Política de cookes\n											\n									\n						\n						\n				\n					\n		\n				\n			\n						\n				\n					© Oskar cafe 2026 | Abside Studio.
URL:https://www.oskarcafe.com/evento/workshop-flamenco-brunch-marlen/
ATTACH;FMTTYPE=image/jpeg:https://www.oskarcafe.com/wp-content/uploads/2026/03/Eventos-61-1.jpeg
END:VEVENT
END:VCALENDAR